BEGIN:VCALENDAR
VERSION:2.0
PRODID:-//AJ Elkins - ECPv6.15.20//NONSGML v1.0//EN
CALSCALE:GREGORIAN
METHOD:PUBLISH
X-ORIGINAL-URL:https://ajelkins.com
X-WR-CALDESC:Events for AJ Elkins
REFRESH-INTERVAL;VALUE=DURATION:PT1H
X-Robots-Tag:noindex
X-PUBLISHED-TTL:PT1H
BEGIN:VTIMEZONE
TZID:America/New_York
BEGIN:DAYLIGHT
TZOFFSETFROM:-0500
TZOFFSETTO:-0400
TZNAME:EDT
DTSTART:20200308T070000
END:DAYLIGHT
BEGIN:STANDARD
TZOFFSETFROM:-0400
TZOFFSETTO:-0500
TZNAME:EST
DTSTART:20201101T060000
END:STANDARD
BEGIN:DAYLIGHT
TZOFFSETFROM:-0500
TZOFFSETTO:-0400
TZNAME:EDT
DTSTART:20210314T070000
END:DAYLIGHT
BEGIN:STANDARD
TZOFFSETFROM:-0400
TZOFFSETTO:-0500
TZNAME:EST
DTSTART:20211107T060000
END:STANDARD
BEGIN:DAYLIGHT
TZOFFSETFROM:-0500
TZOFFSETTO:-0400
TZNAME:EDT
DTSTART:20220313T070000
END:DAYLIGHT
BEGIN:STANDARD
TZOFFSETFROM:-0400
TZOFFSETTO:-0500
TZNAME:EST
DTSTART:20221106T060000
END:STANDARD
BEGIN:DAYLIGHT
TZOFFSETFROM:-0500
TZOFFSETTO:-0400
TZNAME:EDT
DTSTART:20230312T070000
END:DAYLIGHT
BEGIN:STANDARD
TZOFFSETFROM:-0400
TZOFFSETTO:-0500
TZNAME:EST
DTSTART:20231105T060000
END:STANDARD
BEGIN:DAYLIGHT
TZOFFSETFROM:-0500
TZOFFSETTO:-0400
TZNAME:EDT
DTSTART:20240310T070000
END:DAYLIGHT
BEGIN:STANDARD
TZOFFSETFROM:-0400
TZOFFSETTO:-0500
TZNAME:EST
DTSTART:20241103T060000
END:STANDARD
BEGIN:DAYLIGHT
TZOFFSETFROM:-0500
TZOFFSETTO:-0400
TZNAME:EDT
DTSTART:20250309T070000
END:DAYLIGHT
BEGIN:STANDARD
TZOFFSETFROM:-0400
TZOFFSETTO:-0500
TZNAME:EST
DTSTART:20251102T060000
END:STANDARD
BEGIN:DAYLIGHT
TZOFFSETFROM:-0500
TZOFFSETTO:-0400
TZNAME:EDT
DTSTART:20260308T070000
END:DAYLIGHT
BEGIN:STANDARD
TZOFFSETFROM:-0400
TZOFFSETTO:-0500
TZNAME:EST
DTSTART:20261101T060000
END:STANDARD
BEGIN:DAYLIGHT
TZOFFSETFROM:-0500
TZOFFSETTO:-0400
TZNAME:EDT
DTSTART:20270314T070000
END:DAYLIGHT
BEGIN:STANDARD
TZOFFSETFROM:-0400
TZOFFSETTO:-0500
TZNAME:EST
DTSTART:20271107T060000
END:STANDARD
END:VTIMEZONE
BEGIN:VEVENT
DTSTART;TZID=America/New_York:20260107T183000
DTEND;TZID=America/New_York:20260107T210000
DTSTAMP:20260423T142850
CREATED:20260106T224115Z
LAST-MODIFIED:20260106T224115Z
UID:1320-1767810600-1767819600@ajelkins.com
SUMMARY:Open Mic at Apothecary Brewing
DESCRIPTION:Alright\, time to stop being lazy and get my butt off the couch. I’ll be kicking off my busy 2026 with an open mic at the brand new @apothecarybrewingco in Claymont! Performances start at 6:30pm\, come check out the best local music in Claymont and enjoy some delicious beer. I stopped in the other day to check it out and it was great. Cheers\, and have a Happy New Year! 🍺🎊
URL:https://ajelkins.com/calendar/open-mic-at-apothecary-brewing/
LOCATION:Apothecary Brewing\, 2703 Philadelphia Pike\, Suite A\, Claymont\, DE\, 19703\, United States
CATEGORIES:Open Mic
ATTACH;FMTTYPE=image/png:https://ajelkins.com/wp-content/uploads/2026/01/Apothecary-Open-Mic-2000-x-2000-px.png
END:VEVENT
BEGIN:VEVENT
DTSTART;TZID=America/New_York:20240402T180000
DTEND;TZID=America/New_York:20240402T220000
DTSTAMP:20260423T142850
CREATED:20240314T190748Z
LAST-MODIFIED:20240314T190748Z
UID:1114-1712080800-1712095200@ajelkins.com
SUMMARY:Philly Rising at World Cafe Live
DESCRIPTION:Hey Philly\, I’m going to be in town on April 2nd for the Philly Rising open mic at World Cafe Live! Check out the best local talent the city has to offer\, oh and I’ll be there too! Doors open at 6pm\, performances start at 8pm. The performances are chosen by lottery\, so there’s no guarantee I’ll play but we’ll have a great time regardless. Let’s go check out some local artists and have fun! \nEvent Info: https://worldcafelive.com/event/philly-rising-open-mic-presented-by-rec-philly-21/ \nNote: I’m not endorsed or affiliated with World Cafe Live
URL:https://ajelkins.com/calendar/philly-rising-at-world-cafe-live/
LOCATION:World Cafe Live Philly\, The Lounge at World Cafe Live3025 Walnut St\,
CATEGORIES:Open Mic
ATTACH;FMTTYPE=image/jpeg:https://ajelkins.com/wp-content/uploads/2022/05/Wolrd_Cafe_Live.2-2.jpg
END:VEVENT
BEGIN:VEVENT
DTSTART;TZID=America/New_York:20240314T200000
DTEND;TZID=America/New_York:20240314T220000
DTSTAMP:20260423T142850
CREATED:20240229T214934Z
LAST-MODIFIED:20240314T191140Z
UID:1100-1710446400-1710453600@ajelkins.com
SUMMARY:Open Mic at Finnegan's Pub
DESCRIPTION:Let the countdown to St. Paddy’s Day begin! This Thursday\, I’ll be performing at the open mic at Finnegan’s Pub in Wilmington. The show kicks off at 8pm\, so let’s pour a pint and crank out some tunes. Sláinte!
URL:https://ajelkins.com/calendar/open-mic-at-finnegans-pub/
LOCATION:Finnegan’s Pub\, 1701 Lovering Avenue\, Wilmington\, DE\, 19806\, United States
CATEGORIES:Open Mic
ATTACH;FMTTYPE=image/jpeg:https://ajelkins.com/wp-content/uploads/2024/02/Finnegans2.jpg
END:VEVENT
BEGIN:VEVENT
DTSTART;TZID=America/New_York:20240307T200000
DTEND;TZID=America/New_York:20240307T220000
DTSTAMP:20260423T142850
CREATED:20240229T191203Z
LAST-MODIFIED:20240314T191334Z
UID:1072-1709841600-1709848800@ajelkins.com
SUMMARY:Open Mic at The Grape Room
DESCRIPTION:Hey folks\, for the first time since… well\, entirely too long… I’ll be playing live at The Grape Room in Manayunk! This will be an open mic performance as I dust off the ol’ six string and play a few tunes. The doors open at 7pm and performances start at 8pm. See you there! \n  \nDetails: \nThursday\, March 7th 2024 \n8pm \n  \nThe Grape Room \n215.930.0321 \nhttps://www.graperoommusic.com/ \n105 Grape Street Manayunk\, PA 19127
URL:https://ajelkins.com/calendar/open-mic-at-the-grape-room-2/
LOCATION:The Grape Room\, 105 Grape Street\, Manayunk\, PA\, 19127\, United States
CATEGORIES:Open Mic
ATTACH;FMTTYPE=image/jpeg:https://ajelkins.com/wp-content/uploads/2024/02/Grape_Room_Promo1-frame.jpg
END:VEVENT
BEGIN:VEVENT
DTSTART;TZID=America/New_York:20220519T190000
DTEND;TZID=America/New_York:20220519T210000
DTSTAMP:20260423T142850
CREATED:20220503T210805Z
LAST-MODIFIED:20220503T210914Z
UID:790-1652986800-1652994000@ajelkins.com
SUMMARY:Open Mic At Cafe Coco
DESCRIPTION:Please consider joining me at Cafe Coco Nashville on Thursday May 19th at 7pm as I perform at the open mic! \nCafe Coco Open Mic\nThursday\, May 19\, 2022\n7:00pm-9:00pm\n\n\n210 Louise Ave\nNashville\, TN  37203 \noffice@cafecoco.com
URL:https://ajelkins.com/calendar/open-mic-at-cafe-coco/
LOCATION:Cafe Coco\, 210 Louise Ave\, Nashville\, TN\, 37203\, United States
CATEGORIES:Open Mic
ATTACH;FMTTYPE=image/webp:https://ajelkins.com/wp-content/uploads/2022/05/Cafe_Coco.webp
END:VEVENT
BEGIN:VEVENT
DTSTART;TZID=America/New_York:20220510T200000
DTEND;TZID=America/New_York:20220510T220000
DTSTAMP:20260423T142850
CREATED:20220503T204752Z
LAST-MODIFIED:20220503T205035Z
UID:777-1652212800-1652220000@ajelkins.com
SUMMARY:Philly Rising Open Mic presented by REC Philly
DESCRIPTION:Please join me at World Cafe Live Philly at 8pm as I look to perform at the Philly Rising Open Mic! \nWorld Cafe Live is partnering with local movers & shakers REC Philly to bring you an evening of musical collaboration\, inspiration\, and networking. The first Tuesday of each month\, we’ll welcome performers from every genre to step up to the mic. Whether you’re an artist\, a supporter\, an industry professional\, or just a music lover – Philly Rising Open Mic is the place to be! Admission is FREE and all ages are welcome. \n\nEvent Location\n\nDirections\n\nThe Lounge at World Cafe Live\n3025 Walnut St\, Philadelphia\, PA\, 19104 \n\nCOVID INFORMATION: Unless otherwise stated\, World Cafe Live will follow the City of Philadelphia’s current Covid-19 guidelines. Click here for more info. By purchasing tickets\, you acknowledge that everyone in your party will follow any regulations in place at time of show (subject to change) and will not be entitled to a refund for noncompliance.
URL:https://ajelkins.com/calendar/philly-rising-open-mic-presented-by-rec-philly/
LOCATION:World Cafe Live Philly\, The Lounge at World Cafe Live3025 Walnut St\,
CATEGORIES:Open Mic
END:VEVENT
BEGIN:VEVENT
DTSTART;TZID=America/New_York:20211118T140000
DTEND;TZID=America/New_York:20211118T180000
DTSTAMP:20260423T142850
CREATED:20211116T225143Z
LAST-MODIFIED:20211116T225143Z
UID:650-1637244000-1637258400@ajelkins.com
SUMMARY:Open Mic at The Grape Room
DESCRIPTION:Please join me Thursday night for the open mic at The Grape Room in Philly. This will be my first public performance since Feb 2020! I can’t wait to see you there. \nLocation: \nThe Grape Room\n105 Grape St\, Philadelphia\, PA 19127 \nVenue’s Site: \nhttps://www.graperoommusic.com/
URL:https://ajelkins.com/calendar/open-mic-at-the-grape-room/
LOCATION:DE
CATEGORIES:Open Mic
ATTACH;FMTTYPE=image/jpeg:https://ajelkins.com/wp-content/uploads/2021/11/TheGrapeRoom.jpg
END:VEVENT
END:VCALENDAR