BEGIN:VCALENDAR
VERSION:2.0
PRODID:-//AJ Elkins - ECPv6.15.20//NONSGML v1.0//EN
CALSCALE:GREGORIAN
METHOD:PUBLISH
X-ORIGINAL-URL:https://ajelkins.com
X-WR-CALDESC:Events for AJ Elkins
REFRESH-INTERVAL;VALUE=DURATION:PT1H
X-Robots-Tag:noindex
X-PUBLISHED-TTL:PT1H
BEGIN:VTIMEZONE
TZID:America/New_York
BEGIN:DAYLIGHT
TZOFFSETFROM:-0500
TZOFFSETTO:-0400
TZNAME:EDT
DTSTART:20230312T070000
END:DAYLIGHT
BEGIN:STANDARD
TZOFFSETFROM:-0400
TZOFFSETTO:-0500
TZNAME:EST
DTSTART:20231105T060000
END:STANDARD
BEGIN:DAYLIGHT
TZOFFSETFROM:-0500
TZOFFSETTO:-0400
TZNAME:EDT
DTSTART:20240310T070000
END:DAYLIGHT
BEGIN:STANDARD
TZOFFSETFROM:-0400
TZOFFSETTO:-0500
TZNAME:EST
DTSTART:20241103T060000
END:STANDARD
BEGIN:DAYLIGHT
TZOFFSETFROM:-0500
TZOFFSETTO:-0400
TZNAME:EDT
DTSTART:20250309T070000
END:DAYLIGHT
BEGIN:STANDARD
TZOFFSETFROM:-0400
TZOFFSETTO:-0500
TZNAME:EST
DTSTART:20251102T060000
END:STANDARD
END:VTIMEZONE
BEGIN:VEVENT
DTSTART;TZID=America/New_York:20240307T200000
DTEND;TZID=America/New_York:20240307T220000
DTSTAMP:20260424T213954
CREATED:20240229T191203Z
LAST-MODIFIED:20240314T191334Z
UID:1072-1709841600-1709848800@ajelkins.com
SUMMARY:Open Mic at The Grape Room
DESCRIPTION:Hey folks\, for the first time since… well\, entirely too long… I’ll be playing live at The Grape Room in Manayunk! This will be an open mic performance as I dust off the ol’ six string and play a few tunes. The doors open at 7pm and performances start at 8pm. See you there! \n  \nDetails: \nThursday\, March 7th 2024 \n8pm \n  \nThe Grape Room \n215.930.0321 \nhttps://www.graperoommusic.com/ \n105 Grape Street Manayunk\, PA 19127
URL:https://ajelkins.com/calendar/open-mic-at-the-grape-room-2/
LOCATION:The Grape Room\, 105 Grape Street\, Manayunk\, PA\, 19127\, United States
CATEGORIES:Open Mic
ATTACH;FMTTYPE=image/jpeg:https://ajelkins.com/wp-content/uploads/2024/02/Grape_Room_Promo1-frame.jpg
END:VEVENT
BEGIN:VEVENT
DTSTART;TZID=America/New_York:20240314T200000
DTEND;TZID=America/New_York:20240314T220000
DTSTAMP:20260424T213954
CREATED:20240229T214934Z
LAST-MODIFIED:20240314T191140Z
UID:1100-1710446400-1710453600@ajelkins.com
SUMMARY:Open Mic at Finnegan's Pub
DESCRIPTION:Let the countdown to St. Paddy’s Day begin! This Thursday\, I’ll be performing at the open mic at Finnegan’s Pub in Wilmington. The show kicks off at 8pm\, so let’s pour a pint and crank out some tunes. Sláinte!
URL:https://ajelkins.com/calendar/open-mic-at-finnegans-pub/
LOCATION:Finnegan’s Pub\, 1701 Lovering Avenue\, Wilmington\, DE\, 19806\, United States
CATEGORIES:Open Mic
ATTACH;FMTTYPE=image/jpeg:https://ajelkins.com/wp-content/uploads/2024/02/Finnegans2.jpg
END:VEVENT
END:VCALENDAR